BEGIN:VCALENDAR
VERSION:2.0
PRODID:-//Diano Social - ECPv6.2.9//NONSGML v1.0//EN
CALSCALE:GREGORIAN
METHOD:PUBLISH
X-ORIGINAL-URL:https://diano.oonthe.social
X-WR-CALDESC:Eventi per Diano Social
REFRESH-INTERVAL;VALUE=DURATION:PT1H
X-Robots-Tag:noindex
X-PUBLISHED-TTL:PT1H
BEGIN:VTIMEZONE
TZID:Europe/Rome
BEGIN:DAYLIGHT
TZOFFSETFROM:+0100
TZOFFSETTO:+0200
TZNAME:CEST
DTSTART:20240331T010000
END:DAYLIGHT
BEGIN:STANDARD
TZOFFSETFROM:+0200
TZOFFSETTO:+0100
TZNAME:CET
DTSTART:20241027T010000
END:STANDARD
END:VTIMEZONE
BEGIN:VEVENT
DTSTART;TZID=Europe/Rome:20240601T080000
DTEND;TZID=Europe/Rome:20240602T170000
DTSTAMP:20260420T015909
CREATED:20240517T091029Z
LAST-MODIFIED:20240517T091428Z
UID:10000462-1717228800-1717347600@diano.oonthe.social
SUMMARY:Val pista Memorial Nicola d'alto
DESCRIPTION:Il 1 e 2 giugno al Val Pista Motor show di Teggiano si terrà il Memorial Nicola D’alto. \nDurante l’evento\, ci saranno spettacoli imperdibili esibizioni sfilate d’auto e un’area dedicata allo street food\, dove potrete gustare deliziose pizze e molte altre specialità. \nNon mancate a questa occasione per divertirvi e ricordare insieme Nicola D’alto!
URL:https://diano.oonthe.social/evento/val-pista-memorial-nicola-dalto/
LOCATION:Teggiano\, Centro Storico\, Sa\, 84039\, Italia
CATEGORIES:Automobilismo,Memorial
ATTACH;FMTTYPE=image/png:https://diano.oonthe.social/wp-content/uploads/2024/05/Val-pista.png
ORGANIZER;CN="Val Piasta":MAILTO:valpista@me.com
END:VEVENT
END:VCALENDAR