BEGIN:VCALENDAR
VERSION:2.0
PRODID:-//Diano Social - ECPv6.2.9//NONSGML v1.0//EN
CALSCALE:GREGORIAN
METHOD:PUBLISH
X-WR-CALNAME:Diano Social
X-ORIGINAL-URL:https://diano.oonthe.social
X-WR-CALDESC:Eventi per Diano Social
REFRESH-INTERVAL;VALUE=DURATION:PT1H
X-Robots-Tag:noindex
X-PUBLISHED-TTL:PT1H
BEGIN:VTIMEZONE
TZID:Europe/Rome
BEGIN:DAYLIGHT
TZOFFSETFROM:+0100
TZOFFSETTO:+0200
TZNAME:CEST
DTSTART:20230326T010000
END:DAYLIGHT
BEGIN:STANDARD
TZOFFSETFROM:+0200
TZOFFSETTO:+0100
TZNAME:CET
DTSTART:20231029T010000
END:STANDARD
END:VTIMEZONE
BEGIN:VEVENT
DTSTART;TZID=Europe/Rome:20231203T173000
DTEND;TZID=Europe/Rome:20231203T200000
DTSTAMP:20260420T054609
CREATED:20231111T154354Z
LAST-MODIFIED:20231113T074114Z
UID:10000417-1701624600-1701633600@diano.oonthe.social
SUMMARY:Premiazione Giuseppe De Rosa - La Nostra bandiera nel mondo
DESCRIPTION:Serata in onore di Giuseppe De Rosa: Vincitore della Continental Challenge 2023\nGiuseppe De Rosa\, campione mondiale di Ultramaratona\, anche quest’anno sale sul podio come vincitore della Roadsign Continental Challenge 2023. L’ultramaratoneta dei record\, classe 1977\, originario di Sala Consilina in provincia di Salerno\, per il secondo anno consecutivo si è aggiudicato il prestigioso titolo. Una importante conferma per il runner\, unico al mondo ad aver terminato 3 track series. Il fuoriclasse salernitano ha percorso in totale 4\,046 km in autosufficienza\, sfidando neve e ghiaccio\, caldo torrido\, montagne impossibili\, deserti infiniti nelle 5 Ultramaratone organizzate da Canal Aventure in 5 continenti: la Ultra Race in Vietnam\, la Track nell’area dell’Outback in Australia\, la Ultra Norvegia Race sulle Alpi di Lyngen\, la Ultra Bolivia Race sul Salar de Uyuni\, la Ultra Africa Race in Mozambico.\nDomenica 3 dicembre alle 17.30\, presso il Teatro comunale “Mario Scarpetta” di Sala Consilina\, il super campione\, di ritorno dalla Ultra Africa Race\, (gara di 220 km in 5 giorni)\, sarà premiato da Jerome Lollier\, promotore di Canal Aventure\, nella sua città che ha fortemente voluto la serata evento “Giuseppe De Rosa\, la nostra bandiera nel mondo”\, promossa e realizzata dagli sponsor Cardinale group e Cosilinauto.\n\n𝐃𝐞𝐬𝐜𝐫𝐢𝐳𝐢𝐨𝐧𝐞 𝐝𝐞𝐥𝐥’𝐞𝐯𝐞𝐧𝐭𝐨:\nUnisciti a noi in una serata speciale dedicata a un vero campione dell’ultramaratona\, Giuseppe De Rosa!\nDe Rosa ha recentemente trionfato nella prestigiosa Continental Challenge\, dimostrando ancora una volta il suo straordinario talento e impegno nel mondo delle gare di resistenza. Questa serata è un’opportunità unica per celebrare le sue incredibili realizzazioni e condividere il suo successo con amici\, familiari sponsor e fan.\n𝐃𝐞𝐭𝐭𝐚𝐠𝐥𝐢 𝐝𝐞𝐥𝐥’𝐞𝐯𝐞𝐧𝐭𝐨:\nData: 3 Dicembre 2023\nOra: 17.30\nLuogo: Teatro Mario Scarpetta – Sala Consilina (SA)\n𝐏𝐫𝐨𝐠𝐫𝐚𝐦𝐦𝐚 𝐝𝐞𝐥𝐥’𝐞𝐯𝐞𝐧𝐭𝐨:\n– Registrazione ospiti;\n– Saluti di benvenuto;\n– Discussione sulle sfide dell’ultramaratona;\n– Intervento degli ospiti e autorità;\n– Premiazione ufficiale di Giuseppe De Rosa;\n– Buffet leggero e bevande;\nGiuseppe De Rosa è un ultramaratoneta straordinario\, noto per la sua resistenza\, determinazione e straordinari successi nelle gare di lunga distanza. Conquistare la Continental Challenge 2023 è solo l’ultima delle sue vittorie impressionanti. La sua storia di successo è una fonte d’ispirazione per tutti noi\, dimostrando che con dedizione e impegno\, è possibile superare ogni sfida.
URL:https://diano.oonthe.social/evento/premiazione-giuseppe-de-rosa-la-nostra-bandiera-nel-mondo/
LOCATION:Teatro Mario Scarpetta\, Via Cappuccini\, Sala Consilina\, SA\, 84036\, Italia
CATEGORIES:Sport & Benessere,Teatro
ATTACH;FMTTYPE=image/jpeg:https://diano.oonthe.social/wp-content/uploads/2023/11/diano-social-Giuseppe-de-rosa-2023-sito.jpg
ORGANIZER;CN="oonthe S.R.L.":MAILTO:info@oonthe.net
END:VEVENT
END:VCALENDAR