BEGIN:VCALENDAR
VERSION:2.0
PRODID:-//Diano Social - ECPv6.2.9//NONSGML v1.0//EN
CALSCALE:GREGORIAN
METHOD:PUBLISH
X-WR-CALNAME:Diano Social
X-ORIGINAL-URL:https://diano.oonthe.social
X-WR-CALDESC:Eventi per Diano Social
REFRESH-INTERVAL;VALUE=DURATION:PT1H
X-Robots-Tag:noindex
X-PUBLISHED-TTL:PT1H
BEGIN:VTIMEZONE
TZID:Europe/Rome
BEGIN:DAYLIGHT
TZOFFSETFROM:+0100
TZOFFSETTO:+0200
TZNAME:CEST
DTSTART:20240331T010000
END:DAYLIGHT
BEGIN:STANDARD
TZOFFSETFROM:+0200
TZOFFSETTO:+0100
TZNAME:CET
DTSTART:20241027T010000
END:STANDARD
END:VTIMEZONE
BEGIN:VEVENT
DTSTART;TZID=Europe/Rome:20240615T080000
DTEND;TZID=Europe/Rome:20240617T170000
DTSTAMP:20260420T015705
CREATED:20240520T153002Z
LAST-MODIFIED:20240520T153002Z
UID:10000464-1718438400-1718643600@diano.oonthe.social
SUMMARY:Certosa spirits festival
DESCRIPTION:Il primo evento dedicato agli Spirits in Campania rappresenta un’opportunità unica per scoprire e apprezzare liquori e amari di alta qualità. Questo evento è il risultato di una collaborazione tra produttori locali e Monaci Digitali\, con il sostegno del G.A.L del Vallo di Diano. L’obiettivo principale è quello di presentare una vasta gamma di prodotti artigianali ad un pubblico eterogeneo\, promuovendo al contempo il networking e le collaborazioni tra diverse figure del settore. \nAttività e Programma\nL’evento si estenderà su tre giorni e offrirà una varietà di attività coinvolgenti:\n– Degustazioni Guidate: I partecipanti avranno l’opportunità di assaporare diversi spirits sotto la guida di esperti del settore\, scoprendo le peculiarità e le tecniche di produzione che rendono unici questi prodotti.\n– Incontri con i Produttori: Un’occasione per conoscere direttamente i creatori dei liquori e amari\, ascoltare le loro storie e apprendere di più sui processi artigianali che caratterizzano i loro prodotti.\n– Workshop Formativi: Sessioni educative che copriranno vari aspetti della produzione e del marketing dei spirits\, rivolte sia ai professionisti del settore che agli appassionati.\n– Show Cooking: Dimostrazioni culinarie che integreranno i spirits nelle ricette\, offrendo idee innovative su come utilizzare questi prodotti in cucina.\n– Masterclass e Laboratori: Approfondimenti su temi specifici legati al mondo dei spirits\, con esperti di rilievo che condivideranno le loro conoscenze e competenze.\n– Momenti di Intrattenimento: Spettacoli e attività ludiche per rendere l’esperienza ancora più piacevole e memorabile. \nObiettivi e Benefici\nL’evento non solo mira a promuovere i liquori e amari campani\, ma anche a:\nFacilitare il Networking: Creare una piattaforma per il dialogo e la collaborazione tra produttori\, aziende agricole\, distributori\, ristoratori e bartender.\nSviluppare Relazioni Commerciali: Favorire nuove opportunità di business sia a livello territoriale che nazionale.\nPromuovere la Cultura del Beverage: Diffondere la conoscenza e l’apprezzamento dei prodotti locali\, valorizzando la tradizione e l’innovazione nel settore degli spirits. \nQuesto evento rappresenta un passo significativo per la valorizzazione dei prodotti locali e l’incremento delle relazioni commerciali nel settore degli spirits in Campania.
URL:https://diano.oonthe.social/evento/certosa-spirits-festival/
LOCATION:Certosa di Padula\, Via Certosa\, Padula\, SA\, 84034\, Italia
CATEGORIES:Festival
ATTACH;FMTTYPE=image/png:https://diano.oonthe.social/wp-content/uploads/2024/05/certosa-spirits-festival.png
ORGANIZER;CN="Monaci Digitali":MAILTO:info@monacidigitali.it
END:VEVENT
END:VCALENDAR