BEGIN:VCALENDAR
VERSION:2.0
PRODID:-//Diano Social - ECPv6.2.9//NONSGML v1.0//EN
CALSCALE:GREGORIAN
METHOD:PUBLISH
X-ORIGINAL-URL:https://diano.oonthe.social
X-WR-CALDESC:Eventi per Diano Social
REFRESH-INTERVAL;VALUE=DURATION:PT1H
X-Robots-Tag:noindex
X-PUBLISHED-TTL:PT1H
BEGIN:VTIMEZONE
TZID:Europe/Rome
BEGIN:DAYLIGHT
TZOFFSETFROM:+0100
TZOFFSETTO:+0200
TZNAME:CEST
DTSTART:20230326T010000
END:DAYLIGHT
BEGIN:STANDARD
TZOFFSETFROM:+0200
TZOFFSETTO:+0100
TZNAME:CET
DTSTART:20231029T010000
END:STANDARD
END:VTIMEZONE
BEGIN:VEVENT
DTSTART;TZID=Europe/Rome:20231217T093000
DTEND;TZID=Europe/Rome:20231217T170000
DTSTAMP:20260420T092026
CREATED:20231212T140354Z
LAST-MODIFIED:20231212T140354Z
UID:10000424-1702805400-1702832400@diano.oonthe.social
SUMMARY:Mini Christmas
DESCRIPTION:Anche quest’anno\, il #MINIUNIONCLUB si riunisce per festeggiare il Natale con la sua tappa alle falde del Golfo del Cilento situato sul lato orientale del Vallo di Diano\, e confina con la Basilicata\, parliamo di Sala Consilina\nPasseremo tutti insieme una giornata attraversando Antichita’\, storia ed oasi naturali.\nDomenica 17 dicembre:\nIncontro ore 9:30 presso “Kesté caffetteria Via Godelmo\, 47A\, 84036 Sala Consilina SA” per tutti gli accrediti e colazione.\nOre 10:30 Partenza verso la “Certosa Di Padula” Un Antichissimo monastero che e stato creato nel 1861 ed è diventato patrimonio dell’umanita dall’UNESCO nel 1998\, dove ad attenderci ci sarà una bellissima visita guidata.\nSuccessivamente alla visita lungo la strada che attraverseremo\, si fara’ una breve sosta al Battistero di San Giovanni In fonte\nOre 13:30\, Arrivo al ristorante “OFFICINA 83 Via Madonna delle Grazie\, 84036 Sala Consilina SA” locale molto rustico e particolare\n(menù composto da antipasto primo secondo\, bevande incluse)\nESTRAZIONE A SORTEGGIO\, CON UN BIGLIETTO TOTALMENTE GRATUITO INCLUSO NELLA QUOTA DI PARTECIPAZIONE\nLa quota di partecipazione è di €45\,00 per persona e comprende\n(COLAZIONE+PRANZO+VISITA GUIDATA+NOLEGGIO CUFFIE + BIGLIETTO LOTTERIA)\n-PER I PIU PICCOLI € 25€\nscrivete per eventuali intolleranze\nScadenza iscrizioni e pagamento:\n10 Dicembre\,\n( presenze improvvisate non saranno prese in considerazione)\nNon si accettano contanti\ninfo Carlo 3293627414\nMichele 338 263 4617\nminiunionclub@gmail.com\nMODALITA’ DI PAGAMENTO\nPAYPAL: miniunionclub@gmail.com (sezione amici e parenti)\nBonifico Bancario:\nASSOCIAZIONE MINIUNIONCLUB SALERNO\nIT50V 03268 152010 523268 69210\nCausale: MINI XMAS (nome e cognome partecipanti)
URL:https://diano.oonthe.social/evento/mini-christmas/
LOCATION:Certosa di Padula\, Via Certosa\, Padula\, SA\, 84034\, Italia
CATEGORIES:Automobilismo
ATTACH;FMTTYPE=image/jpeg:https://diano.oonthe.social/wp-content/uploads/2023/12/diano-social-2023-evento-natale-mini.jpg
ORGANIZER;CN="Miniunionclub":MAILTO:miniunionclub@gmail.com
END:VEVENT
END:VCALENDAR