BEGIN:VCALENDAR
VERSION:2.0
PRODID:-//Diano Social - ECPv6.2.9//NONSGML v1.0//EN
CALSCALE:GREGORIAN
METHOD:PUBLISH
X-WR-CALNAME:Diano Social
X-ORIGINAL-URL:https://diano.oonthe.social
X-WR-CALDESC:Eventi per Diano Social
REFRESH-INTERVAL;VALUE=DURATION:PT1H
X-Robots-Tag:noindex
X-PUBLISHED-TTL:PT1H
BEGIN:VTIMEZONE
TZID:Europe/Rome
BEGIN:DAYLIGHT
TZOFFSETFROM:+0100
TZOFFSETTO:+0200
TZNAME:CEST
DTSTART:20240331T010000
END:DAYLIGHT
BEGIN:STANDARD
TZOFFSETFROM:+0200
TZOFFSETTO:+0100
TZNAME:CET
DTSTART:20241027T010000
END:STANDARD
END:VTIMEZONE
BEGIN:VEVENT
DTSTART;TZID=Europe/Rome:20240414T073000
DTEND;TZID=Europe/Rome:20240414T170000
DTSTAMP:20260420T071617
CREATED:20240129T134515Z
LAST-MODIFIED:20240129T134634Z
UID:10000437-1713079800-1713114000@diano.oonthe.social
SUMMARY:Gara ciclistica amatoriale- 2° Memorial Rocco Giuliano
DESCRIPTION:Il prossimo 14 Aprile\, gli appassionati di ciclismo avranno l’opportunità di partecipare a una stimolante competizione amatoriale nella pittoresca cittadina di Polla. \nL’evento\, intitolato “Memorial Rocco Giuliano”\, promette emozioni e sfide ciclistiche indimenticabili. \nIl ritrovo sarà nella suggestiva piazza A. Monforte a Polla alle ore 7:30\, con l’atmosfera carica di eccitazione e anticipazione. Ciclisti provenienti da diverse località si riuniranno per questo entusiasmante appuntamento\, pronti a mettere alla prova le proprie abilità su un percorso che promette di essere impegnativo e appagante. \nLa gara avrà inizio alle ore 10 e il cuore della competizione sarà il circuito di 11 chilometri\, caratterizzato da un profilo pianeggiante che si sviluppa attraverso scenari pittoreschi e paesaggi mozzafiato. I partecipanti avranno il privilegio di attraversare suggestivi tratti del territorio locale\, sperimentando la bellezza della ciclismo in un contesto che celebra la passione per questa disciplina. \nLa sfida sarà impegnativa: i ciclisti dovranno affrontare sette giri del circuito per coprire una distanza totale di 77 chilometri. Ogni giro rappresenterà un’opportunità per mettere alla prova la resistenza\, la strategia e la determinazione di ogni partecipante. \nLa competizione è dedicata al memoriale di Rocco Giuliano\, una figura che ha lasciato un’impronta indelebile nel mondo del ciclismo amatoriale. Il memorial rende omaggio alla sua passione\, dedizione e spirito sportivo\, ispirando gli atleti a dare il massimo di sé in onore di questo indimenticabile ciclista. \nL’evento non è solo una gara\, ma un’occasione per riunire la comunità ciclistica locale e promuovere lo spirito di sana competizione. La partecipazione è aperta a ciclisti di ogni livello\, offrendo un’opportunità unica di condividere la passione per il ciclismo e creare nuovi legami all’interno della comunità. \nPer chiunque desideri unirsi all’emozionante Memorial Rocco Giuliano\, il consiglio è di prepararsi a vivere un’indimenticabile giornata di ciclismo\, unita alla gioia di celebrare un’icona del mondo delle due ruote. Unitevi a noi il prossimo aprile a Monforte Polla per una gara indimenticabile che onora la memoria di Rocco Giuliano e celebra la passione per il ciclismo.
URL:https://diano.oonthe.social/evento/gara-ciclistica-amatoriale-il-memorial-rocco-giuliano/
LOCATION:Piazza A Monforte\, Piazza A\, Monforte\, Polla\, SA\, 84035\, Italia
CATEGORIES:Ciclismo
ATTACH;FMTTYPE=image/png:https://diano.oonthe.social/wp-content/uploads/2024/01/diano-social-Bike-in-tour.png
ORGANIZER;CN="MERIDIANA PRO CyclinG TeaM":MAILTO:Info@meridianagroupamg.it
END:VEVENT
END:VCALENDAR