BEGIN:VCALENDAR
VERSION:2.0
PRODID:-//Diano Social - ECPv6.2.9//NONSGML v1.0//EN
CALSCALE:GREGORIAN
METHOD:PUBLISH
X-WR-CALNAME:Diano Social
X-ORIGINAL-URL:https://diano.oonthe.social
X-WR-CALDESC:Eventi per Diano Social
REFRESH-INTERVAL;VALUE=DURATION:PT1H
X-Robots-Tag:noindex
X-PUBLISHED-TTL:PT1H
BEGIN:VTIMEZONE
TZID:UTC
BEGIN:STANDARD
TZOFFSETFROM:+0000
TZOFFSETTO:+0000
TZNAME:UTC
DTSTART:20230101T000000
END:STANDARD
TZID:Europe/Rome
BEGIN:DAYLIGHT
TZOFFSETFROM:+0100
TZOFFSETTO:+0200
TZNAME:CEST
DTSTART:20230326T010000
END:DAYLIGHT
BEGIN:STANDARD
TZOFFSETFROM:+0200
TZOFFSETTO:+0100
TZNAME:CET
DTSTART:20231029T010000
END:STANDARD
BEGIN:DAYLIGHT
TZOFFSETFROM:+0100
TZOFFSETTO:+0200
TZNAME:CEST
DTSTART:20240331T010000
END:DAYLIGHT
BEGIN:STANDARD
TZOFFSETFROM:+0200
TZOFFSETTO:+0100
TZNAME:CET
DTSTART:20241027T010000
END:STANDARD
END:VTIMEZONE
BEGIN:VEVENT
DTSTART;VALUE=DATE:20230731
DTEND;VALUE=DATE:20230803
DTSTAMP:20260423T165309
CREATED:20230720T120736Z
LAST-MODIFIED:20230904T084929Z
UID:10000002-1690761600-1691020799@diano.oonthe.social
SUMMARY:Fritz Festival V Edizione
DESCRIPTION:🎉🎪 Fritz Festival V Edizione \n“Pluralia” è il tema ispiratore che ci guiderà in questa avventura di scoperte e connessioni\, celebrando la diversità che rende unico il nostro mondo! 🌍🌈 \nNon mancare a questo festival senza precedenti dove il gusto della provincia si fonde con l’anima della comunità! 🍕🎊 \n🎉 Festival Highlights: 🎉 🎭 Incontri culturali e condivisione di idee 💡🌍 🎥 Proiezioni cinematografiche emozionanti 🎬🍿 💬 Talk e discussioni coinvolgenti 🗣️🤝 🎶 Concerti dal vivo e DJ set mozzafiato 🎵🎧 ⛺ Area camping per l’esperienza completa 🏕️🌌 🎉 Divertimento e atmosfera unica al Fritz! 🎊😄 \nPartecipa a questo evento speciale che celebra la pluralità\, dove le cose plurali vengono esaltate e supportate! 🌟🤗 Unisciti a noi per abbracciare il potere dell’unione\, dei sogni condivisi e delle collaborazioni straordinarie. 💪🤝 \nIngresso gratuito – FREE ENTRY 🆓💃 \nPreparati a un’esperienza indimenticabile! Ci vediamo al Fritz Festival! 🎉🎶🎈🎆 \nPer ulteriori informazioni e aggiornamenti: 🌐 www.fritzfestival.it 📧 info@fritzfestival.it 📱 @fritzfestivalofficial
URL:https://diano.oonthe.social/evento/fritz-festival-v-edizione/
LOCATION:Polo culturale Cappucini\, Via Cappuccini\, Sala Consilina\, Sa\, 84036
CATEGORIES:Festival
ATTACH;FMTTYPE=image/jpeg:https://diano.oonthe.social/wp-content/uploads/2023/07/2023-fritz-festival.jpg
ORGANIZER;CN="Amico Fritz APS":MAILTO:Info@fritzfestival.it
END:VEVENT
BEGIN:VEVENT
DTSTART;VALUE=DATE:20230830
DTEND;VALUE=DATE:20230904
DTSTAMP:20260423T165309
CREATED:20230823T074652Z
LAST-MODIFIED:20230904T084924Z
UID:10000013-1693353600-1693785599@diano.oonthe.social
SUMMARY:Festa della birra
DESCRIPTION:Le serate estive a Sala Consilina si preparano a diventare ancora più spensierate e gustose con la 2^ edizione della Festa della Birra\, un evento organizzato con entusiasmo dalla associazione di giovani “Sala ad Maiora\,” guidata da Luca Gallo. \nIl Polo Culturale Cappuccini a Sala Consilina sarà il palcoscenico di questa festa dedicata ai sapori della Germania\, in un’atmosfera suggestiva e ricca di cultura. \n🍺 Il protagonista indiscusso di questa festa sarà la birra\, con una varietà di birre tedesche da assaporare\, accompagnate da deliziose specialità culinarie della tradizione tedesca\, c’è anche  una fantastica novità in serbo per voi quest’anno: uno stand Gluten-Free! \nTutti potranno gustare cene e birre senza alcuna preoccupazione. Invita i tuoi amici e familiari a unirsi a te per un’esperienza gastronomica che accontenterà tutti i palati. 🍔🍟🥤 \n🎶 Ma non è tutto! Durante la Festa della Birra\, potrete godervi anche la musica di artisti locali e nazionali: \n🎵 Disco Patici Disco Band Live Band \n🎵 Totino Melillo Nuovo Live – Presentazione del nuovo inedito \n🎵 Bagaria Dance revival Live Band \n🎵 Accipiter Musica Folk e Popolare \n 
URL:https://diano.oonthe.social/evento/festa-della-birra/
LOCATION:Polo culturale Cappucini\, Via Cappuccini\, Sala Consilina\, Sa\, 84036
CATEGORIES:Festa della birra
ATTACH;FMTTYPE=image/jpeg:https://diano.oonthe.social/wp-content/uploads/2023/08/Festa-della-birra.jpg
ORGANIZER;CN="Associazione Sala ad Maiora":MAILTO:associazionesalaadmaiora@gmail.com
END:VEVENT
BEGIN:VEVENT
DTSTART;TZID=Europe/Rome:20241011T080000
DTEND;TZID=Europe/Rome:20241011T173000
DTSTAMP:20260423T165309
CREATED:20241005T124400Z
LAST-MODIFIED:20241011T124837Z
UID:10000468-1728633600-1728667800@diano.oonthe.social
SUMMARY:Presentazione del Progetto La via degli Orti e i santuari dell'acqua.
DESCRIPTION:Venerdì 11 ottobre alle ore 17.30\, presso il Polo Culturale Cappuccini di Sala con Amedeo De Maio come presentatore “La via degli Orti e i santuari dell’acqua: un grande attrattore turistico sulle orme degli Enotri” .Assessorato all’Agricoltura e Patrimonio. \nL’obiettivo del progetto è la tutela e la valorizzazione della biodiversità vegetale degli antichi orti degli Enotri\, considera una risorsa preziosa per lo sviluppo economico\, sociale e culturale della città di Sala Consilina. \n“Il tema centrale della tavola rotonda sarà la creazione di una sinergia istituzionale\, che coinvolga anche soggetti privati\, per elaborare un protocollo d’intesa volto a sostenere una rete virtuosa di turismo sostenibile e integrato. L’intento è che ognuno possa contribuire strategicamente al rinnovamento delle risorse agricole\, culturali\, storiche e ambientali del nostro territorio\,” ha dichiarato l’assessore De Maio . \nQuesto appuntamento rappresenta un’importante occasione per favorire il dialogo tra istituzioni e privati ​​e promuovere il patrimonio culturale e agricolo locale.
URL:https://diano.oonthe.social/evento/presentazione-del-progetto-la-via-degli-orti-e-i-santuari-dellacqua/
LOCATION:Polo culturale Cappucini\, Via Cappuccini\, Sala Consilina\, Sa\, 84036
CATEGORIES:Cultura e Tradizione
ATTACH;FMTTYPE=image/png:https://diano.oonthe.social/wp-content/uploads/2024/10/La-via-degli-orti.png
ORGANIZER;CN="Comune di Sala Consilina":MAILTO:protocollo.salaconsilina@asmepec.it
END:VEVENT
END:VCALENDAR