BEGIN:VCALENDAR
VERSION:2.0
PRODID:-//Diano Social - ECPv6.2.9//NONSGML v1.0//EN
CALSCALE:GREGORIAN
METHOD:PUBLISH
X-ORIGINAL-URL:https://diano.oonthe.social
X-WR-CALDESC:Eventi per Diano Social
REFRESH-INTERVAL;VALUE=DURATION:PT1H
X-Robots-Tag:noindex
X-PUBLISHED-TTL:PT1H
BEGIN:VTIMEZONE
TZID:Europe/Rome
BEGIN:DAYLIGHT
TZOFFSETFROM:+0100
TZOFFSETTO:+0200
TZNAME:CEST
DTSTART:20230326T010000
END:DAYLIGHT
BEGIN:STANDARD
TZOFFSETFROM:+0200
TZOFFSETTO:+0100
TZNAME:CET
DTSTART:20231029T010000
END:STANDARD
BEGIN:DAYLIGHT
TZOFFSETFROM:+0100
TZOFFSETTO:+0200
TZNAME:CEST
DTSTART:20240331T010000
END:DAYLIGHT
BEGIN:STANDARD
TZOFFSETFROM:+0200
TZOFFSETTO:+0100
TZNAME:CET
DTSTART:20241027T010000
END:STANDARD
END:VTIMEZONE
BEGIN:VEVENT
DTSTART;TZID=Europe/Rome:20231015T180000
DTEND;TZID=Europe/Rome:20231015T200000
DTSTAMP:20260420T095107
CREATED:20231009T101434Z
LAST-MODIFIED:20231009T101434Z
UID:10000399-1697392800-1697400000@diano.oonthe.social
SUMMARY:Teatro amore mio- I gabbiani
DESCRIPTION:Cari appassionati del teatro\, segnatevi la data del 15 ottobre alle ore 18:00\, perché l’associazione ‘Tempo e Memoria’ sta per dar via alla diciannovesima edizione della sua straordinaria rassegna teatrale. L’evento di apertura sarà qualcosa di davvero speciale\, con la compagnia teatrale ‘IGabbiani’ che presenterà lo spettacolo ‘Gigolo’. \nProprio per questo motivo\, invitiamo tutti ad appoggiare questa nobile iniziativa\, che negli anni ha riempito dapprima la piazza di Cristo Re e successivamente si è prefissa di riunire il folto pubblico nel Centro Sociale ‘Don Bosco’ in via Garibaldi a Polla\, nelle numerose domeniche. Il nostro modo di vedere è che la nobile arte della recitazione è una delle poche in grado di suscitare\, in ognuno di noi\, divertimento e spunti di riflessioni profonde sulla realtà quotidiana. \nNon perdete l’occasione di essere parte di questa esperienza unica. La rassegna promette di offrire serate indimenticabili che riporteranno lo splendore del teatro nel nostro comprensorio. Vi aspettiamo il 15 ottobre per questa straordinaria serata teatrale!
URL:https://diano.oonthe.social/evento/teatro-amore-mio-i-gabbiani/
LOCATION:Centro sociale Don Bosco\, Via Garibaldi\, Polla\, SA\, 84035\, Italia
CATEGORIES:Cultura e arte,Teatro
ATTACH;FMTTYPE=image/jpeg:https://diano.oonthe.social/wp-content/uploads/2023/10/I-GABBIANI.jpg
ORGANIZER;CN="Associazione Tempo e memoria":MAILTO:tempoememoria@libero.it
END:VEVENT
BEGIN:VEVENT
DTSTART;TZID=Europe/Rome:20231028T170000
DTEND;TZID=Europe/Rome:20231028T170000
DTSTAMP:20260420T095107
CREATED:20231024T191743Z
LAST-MODIFIED:20231024T191743Z
UID:10000408-1698512400-1698512400@diano.oonthe.social
SUMMARY:Conferenza sport & disabilità
DESCRIPTION:A Polla\, nel suggestivo scenario offerto dal Centro Don Bosco\, si terrà un’importante conferenza con il tema “Sport e Disabilità”. Questo evento riunirà esperti\, professionisti e appassionati dello sport per discutere come lo sport possa rappresentare un’opportunità di inclusione\, sfida e crescita per le persone con disabilità. La conferenza si svolgerà sotto l’egida dell’entusiasmo e dell’impegno di numerosi professionisti del settore\, tra cui il Dott. Bruno Panza\, il Dott. Antonio Vitolo\, Orlando Festa\, Francesco Russo\, Francesco Messori e sarà moderata dalla giornalista Elena Francesca Comuniello. \nRelatori di Rilievo: \n– Dott. Bruno Panza – Fisioterapista: Il Dott. Panza è un esperto nel campo della riabilitazione fisica e il suo contributo alla conferenza sarà di fondamentale importanza per comprendere come lo sport possa essere utilizzato come strumento terapeutico per migliorare la qualità della vita delle persone con disabilità. \n– Dott. Antonio Vitolo – Coordinatore ASL e Docente Universitario: Il Dott. Vitolo apporterà la sua vasta esperienza nel campo della sanità pubblica e della formazione universitaria per esplorare il ruolo che il sistema sanitario può svolgere nella promozione dell’accessibilità e dell’inclusione nello sport. \n– Orlando Festa – Istruttore FINP (Federazione Italiana Nuoto Paralimpico): Il contributo di Orlando Festa sarà di fondamentale importanza per affrontare le sfide e le opportunità che lo sport acquatico offre alle persone con disabilità. \n– Francesco Russo – Responsabile Baskin Volta Carmine: Francesco Russo ci parlerà dell’incredibile mondo del basket in sedia a rotelle\, dimostrando come il basket adattato possa essere un’attività entusiasmante per chiunque\, indipendentemente dalla disabilità. \n– Francesco Messori – Capitano Nazionale Italiana Calcio Amputati: Francesco Messori rappresenta l’orgoglio italiano nei campionati di calcio amputati\, dimostrando che la passione e la determinazione possono superare qualsiasi ostacolo. \n– Elena Francesca Comuniello – Giornalista: La conferenza sarà condotta da Elena Francesca Comuniello\, giornalista che ha dedicato la sua carriera a promuovere la consapevolezza sull’importanza dello sport e dell’inclusione. \nSaluti Istituzionali: \nLa conferenza riceverà il saluto del Sindaco di Polla\, Massimo Loviso\, e della Consigliera della Provincia di Salerno\, Filomena Rosamilla\, delegata alle politiche sociali. La presenza del Dott. Carmine Mellone\, Presidente Regionale del Comitato Italiano Paralimpico (CIP) Campania\, aggiunge ulteriore autorevolezza all’evento\, enfatizzando il ruolo cruciale del CIP nel promuovere l’accessibilità e l’inclusione nello sport per le persone con disabilità. \nPartecipazione della Cittadinanza: \nLa cittadinanza di Polla e delle aree circostanti è cordialmente invitata a partecipare a questa conferenza straordinaria. Lo sport è un potente mezzo di inclusione sociale e di crescita personale\, e questa conferenza offre un’opportunità unica per scoprire come esso possa contribuire a trasformare vite e comunità. \nConclusioni: \nLa conferenza “Sport e Disabilità” a Polla nel Centro Don Bosco è un evento che promette di ispirare\, educare e sensibilizzare sulle sfide e le opportunità legate allo sport per le persone con disabilità. Unisciti a noi in questa giornata straordinaria\, e scopri come lo sport possa diventare un veicolo di inclusione\, empowerment e realizzazione personale.
URL:https://diano.oonthe.social/evento/conferenza-sport-disabilita/
LOCATION:Centro sociale Don Bosco\, Via Garibaldi\, Polla\, SA\, 84035\, Italia
CATEGORIES:Conferenza,Sport & Benessere
ATTACH;FMTTYPE=image/jpeg:https://diano.oonthe.social/wp-content/uploads/2023/10/diano-social-Polla-2023-Don-Bosco.jpg
END:VEVENT
BEGIN:VEVENT
DTSTART;TZID=Europe/Rome:20231112T180000
DTEND;TZID=Europe/Rome:20231112T200000
DTSTAMP:20260420T095107
CREATED:20231107T104641Z
LAST-MODIFIED:20231108T135446Z
UID:10000416-1699812000-1699819200@diano.oonthe.social
SUMMARY:Giallo si\, ma non troppo.
DESCRIPTION:Domenica 12 Novembre al teatro sociale Don Bosco di Polla   ‘Teatro Amore mio’  è pronto  a stupire ancora una volta con un nuovo spettacolo avvincente che promette di mettere alla prova le vostre abilità deduttive e farvi vivere un’esperienza teatrale indimenticabile. “Giallo sì\, ma non troppo” è il titolo di questa produzione che sta per debuttare\, portando con sé suspense\, mistero e una buona dose di umorismo. \nIl Preambolo \nIl titolo stesso\, “Giallo sì\, ma non troppo”\, suggerisce un’opera che gioca con il genere del giallo\, ma in modo leggero e sorprendente. Questo spettacolo promette di offrire una storia intricata e avvincente\, ma con una svolta che ne rende un’esperienza teatrale unica nel suo genere. \nSe siete appassionati di gialli e desiderate una serata di intrattenimento che vi sorprenda e vi faccia ridere allo stesso tempo\, “Giallo sì\, ma non troppo” è lo spettacolo da non perdere. Con un cast eccezionale\, una trama labirintica e un tocco di umorismo\, questa produzione promette di essere un’esperienza teatrale indimenticabile che vi terrà incollati alle poltrone fino all’ultimo colpo di scena. Non fatevi sfuggire questa opportunità di vivere una serata di puro intrattenimento teatrale! \n 
URL:https://diano.oonthe.social/evento/giallo-si-ma-non-troppo/
LOCATION:Centro sociale Don Bosco\, Via Garibaldi\, Polla\, SA\, 84035\, Italia
CATEGORIES:Teatro
ATTACH;FMTTYPE=image/jpeg:https://diano.oonthe.social/wp-content/uploads/2023/11/diano-social-Giallo-si-ma-non-troppo-2023-sito-1.jpg
END:VEVENT
BEGIN:VEVENT
DTSTART;TZID=Europe/Rome:20231217T180000
DTEND;TZID=Europe/Rome:20231217T190000
DTSTAMP:20260420T095107
CREATED:20231214T082555Z
LAST-MODIFIED:20231214T082555Z
UID:10000425-1702836000-1702839600@diano.oonthe.social
SUMMARY:Commedia Voto di scambio
DESCRIPTION:Domenica 17 Dicembre a Polla (SA)  nel centro solidale Don Bosco ci sarà uno spettacolo da non perdere\, una commedia  in 2 atti davvero divertente e coinvolgente. \n  \n 
URL:https://diano.oonthe.social/evento/commedia-voto-di-scambio/
LOCATION:Centro sociale Don Bosco\, Via Garibaldi\, Polla\, SA\, 84035\, Italia
CATEGORIES:Teatro
ATTACH;FMTTYPE=image/jpeg:https://diano.oonthe.social/wp-content/uploads/2023/12/diano-social-2023-voto-di-scambio.jpg
END:VEVENT
BEGIN:VEVENT
DTSTART;TZID=Europe/Rome:20240313T173000
DTEND;TZID=Europe/Rome:20240313T183000
DTSTAMP:20260420T095107
CREATED:20240307T145845Z
LAST-MODIFIED:20240307T162724Z
UID:10000451-1710351000-1710354600@diano.oonthe.social
SUMMARY:Convegno Scuole di Calcio
DESCRIPTION:Il 13 Marzo 2024\, il Centro Sociale “Don Bosco” a Polla (SA) ospiterà il convegno “Scuole di Calcio – Scuole di Vita”. Organizzato da ASD Physiotherapy in collaborazione con ANILD\, Provincia di Salerno\, ASI e LND Lega Nazionale Dilettanti Sport Calcio\, l’evento si propone di esplorare il ruolo formativo del calcio e la sua influenza sulla crescita personale. \nMichele Ficetola modererà il dibattito tra relatori del settore calcistico\, medici e psicologi\, affrontando temi chiave come il fair play\, la disciplina e la gestione delle emozioni nel contesto sportivo. Il patrocinio di Fitwalking Ida Soldi\, Solidalis\, Giliberti Gioielli e Training Academy sottolinea il sostegno di importanti realtà locali. \nLa cittadinanza è invitata a partecipare\, contribuendo a una discussione che mira a promuovere la salute\, la solidarietà e la crescita comunitaria attraverso lo sport e la formazione.
URL:https://diano.oonthe.social/evento/convegno-scuole-di-calcio/
LOCATION:Centro sociale Don Bosco\, Via Garibaldi\, Polla\, SA\, 84035\, Italia
CATEGORIES:Conferenza
ATTACH;FMTTYPE=image/png:https://diano.oonthe.social/wp-content/uploads/2024/03/Scuole-calcio.png
END:VEVENT
END:VCALENDAR