BEGIN:VCALENDAR
VERSION:2.0
PRODID:-//Diano Social - ECPv6.2.9//NONSGML v1.0//EN
CALSCALE:GREGORIAN
METHOD:PUBLISH
X-ORIGINAL-URL:https://diano.oonthe.social
X-WR-CALDESC:Eventi per Diano Social
REFRESH-INTERVAL;VALUE=DURATION:PT1H
X-Robots-Tag:noindex
X-PUBLISHED-TTL:PT1H
BEGIN:VTIMEZONE
TZID:Europe/Rome
BEGIN:DAYLIGHT
TZOFFSETFROM:+0100
TZOFFSETTO:+0200
TZNAME:CEST
DTSTART:20230326T010000
END:DAYLIGHT
BEGIN:STANDARD
TZOFFSETFROM:+0200
TZOFFSETTO:+0100
TZNAME:CET
DTSTART:20231029T010000
END:STANDARD
BEGIN:DAYLIGHT
TZOFFSETFROM:+0100
TZOFFSETTO:+0200
TZNAME:CEST
DTSTART:20240331T010000
END:DAYLIGHT
BEGIN:STANDARD
TZOFFSETFROM:+0200
TZOFFSETTO:+0100
TZNAME:CET
DTSTART:20241027T010000
END:STANDARD
END:VTIMEZONE
BEGIN:VEVENT
DTSTART;TZID=Europe/Rome:20240602T090000
DTEND;TZID=Europe/Rome:20240602T170000
DTSTAMP:20260420T004442
CREATED:20240528T121524Z
LAST-MODIFIED:20240528T121524Z
UID:10000465-1717318800-1717347600@diano.oonthe.social
SUMMARY:Pedala con noi
DESCRIPTION:Siete tutti invitati a partecipare a una giornata speciale organizzata dalla Bike in Tour Vallo di Diano. Questa domenica\, trascorriamo insieme un’esperienza indimenticabile\, aperta a grandi e piccini. Non perdete l’occasione di unirvi a noi per una pedalata in compagnia\, riscoprendo il piacere della bicicletta e della natura. \nDettagli dell’Evento \nData: Domenica 2 giugno\nPartenza: Bike Park\, Sala Consilina\nOrario: Ritrovo alle 9:00\, partenza alle 9:30 \nPercorso \nIl percorso prevede una pedalata che si snoderà principalmente su strade secondarie e pianeggianti\, rendendolo adatto a tutte le età e livelli di esperienza. Per chi lo desidera\, è possibile fermarsi a Silla\, dove nella piazzetta verrà allestito un rinfresco. Chi vorrà\, potrà poi organizzarsi per il ritorno in macchina. \nChi invece riuscirà a completare l’intero tragitto\, ritornando al punto di partenza prima di pranzo\, avrà la possibilità di partecipare all’estrazione di fantastici premi offerti dalla Bike in Tour\, tra cui la maglietta ufficiale della squadra ciclistica e molti altri regali! \nSicurezza \nLa sicurezza dei partecipanti è per noi una priorità. Il gruppo sarà accompagnato da un’ambulanza dell’ANPAS\, esperti ciclisti della Bike in Tour e supportato dalla polizia locale. Per eventuali difficoltà lungo il percorso\, sarà disponibile un valido supporto tecnico. \nPerché Partecipare? \nQuesto evento è un’occasione perfetta per incoraggiare i bambini a stare all’aperto\, promuovendo la mobilità sostenibile e il piacere delle attività di gruppo. È un momento per condividere la passione per la bicicletta\, conoscere nuove persone e trascorrere una giornata all’insegna del divertimento e della natura. \nAnche chi non possiede una bicicletta può partecipare: contattateci con qualche giorno di anticipo e troveremo una soluzione per voi! \n Come Partecipare \nSe siete interessati a partecipare o avete domande\, non esitate a contattarci. Sarà una giornata all’insegna del divertimento\, del movimento e della buona compagnia.
URL:https://diano.oonthe.social/evento/pedala-con-noi/
LOCATION:Sala Consilina\, Sala Consilina\, Italia
CATEGORIES:Sport & Benessere
ATTACH;FMTTYPE=image/png:https://diano.oonthe.social/wp-content/uploads/2024/05/bikeintour.png
END:VEVENT
BEGIN:VEVENT
DTSTART;TZID=Europe/Rome:20240211T143000
DTEND;TZID=Europe/Rome:20240211T183000
DTSTAMP:20260420T004442
CREATED:20240207T064313Z
LAST-MODIFIED:20240207T064313Z
UID:10000443-1707661800-1707676200@diano.oonthe.social
SUMMARY:Carnevale Sassanese
DESCRIPTION:Il prossimo 11 febbraio\, gli abitanti di Sassano e dintorni sono invitati a partecipare a un’entusiasmante giornata di festa in occasione del Carnevale. L’evento\, ricco di divertimento\, musica e animazione\, si svolgerà a partire dalle 14:30 con il raduno delle maschere presso la suggestiva località Fontanelle. \nLa festa prenderà il via con una colorata sfilata che attraverserà le vie del paese\, regalando a tutti i partecipanti un’atmosfera vivace e spensierata. \nA partire dalle 15:30\, la piazza principale\, Piazza Umberto I\, diventerà il cuore pulsante della festa\, con un ricco programma di intrattenimento che includerà musica\, danze e un delizioso buffet. \nUn pomeriggio all’insegna della gioia e della spensieratezza\, un’occasione perfetta per immergersi nell’atmosfera festosa del Carnevale. Tutti sono invitati a partecipare\, indossando le proprie maschere più creative e originali\, pronti a condividere sorrisi e momenti indimenticabili. \nNon mancate l’appuntamento con il divertimento: il Carnevale a Sassano sarà un’esperienza che unirà la comunità in una festa di allegria e spettacolo. \nL’organizzazione ha pensato a tutto\, anche in caso di avverse condizioni meteorologiche. Se dovesse piovere\, i festeggiamenti si trasferiranno nella palestra comunale a partire dalle 15:00\, garantendo comunque un’esperienza indimenticabile per tutta la comunità.
URL:https://diano.oonthe.social/evento/carnevale-sassanese/
LOCATION:Sassano\, Centro Storico\, Sassano\, Sa\, 84038\, Italia
CATEGORIES:Carnevale
ATTACH;FMTTYPE=image/png:https://diano.oonthe.social/wp-content/uploads/2024/02/diano-social-Carnevale-sassano.png
ORGANIZER;CN="Comune di Sassano":MAILTO:protocollo.sassano@asmepec.it
END:VEVENT
BEGIN:VEVENT
DTSTART;TZID=Europe/Rome:20231001T093000
DTEND;TZID=Europe/Rome:20231001T133000
DTSTAMP:20260420T004442
CREATED:20230918T154947Z
LAST-MODIFIED:20230918T154947Z
UID:10000023-1696152600-1696167000@diano.oonthe.social
SUMMARY:Corsa Podistica delle Sette Cappelle
DESCRIPTION:Un connubio straordinario tra fede e competizione: \nDomenica 1 Ottobre 2023 Si terrà  La 14ª Edizione della Corsa Podistica delle Sette Cappelle\, questa corsa di 12 km va oltre la competizione; essa sfida corpo\, mente e spirito\, mettendo alla prova l’equilibrio tra queste tre dimensioni. \nAlla guida di questa emozionante iniziativa c’è l’entusiasta Giovanni Bautti\, presidente dell’Associazione “In Cammino con Padre Pio.” \nRitrovo alle 9.30 presso Varco Notar Ercole\, Sassano: \nLa mattina di Domenica\, 1 Ottobre 2023\, alle 9:30\, i semafori si illumineranno di verde\, segnando l’inizio di un evento eccezionale. \nLa Magnificenza delle Sette Cappelle: \nQuesto evento offre l’opportunità unica di esplorare la propria fede e testare la propria resistenza in un contesto agonistico senza paragoni. \nLe Sette Cappelle\, con le loro architetture suggestive e le rappresentazioni storiche di fede\, aggiungono un tocco di sacralità al percorso. \nPartecipanti e Le Loro Storie: \nLa Corsa Podistica delle Sette Cappelle è un’esperienza che celebra la fede\, la determinazione e la solidarietà tra i membri della comunità. Molti partecipanti si ispirano all’opera di carità di Padre Pio e partecipano per onorarne l’eredità. \nPorte Aperte per Tutti: \nIndipendentemente dall’età o dal livello di preparazione fisica\, l’evento accoglie tutti i partecipanti\, invitandoli a mettersi alla prova e superare i propri limiti. \nPrepara le tue scarpe da ginnastica e il tuo spirito avventuroso; unisciti a noi il per questa straordinaria avventura. Ogni partecipante sarà un vincitore nel proprio cuore. \nLa Celebrazione Finale: \nAl termine di questa entusiasmante corsa\, ci sarà una festa con premiazioni\, pasta party e abbondante frutta fresca. \n 
URL:https://diano.oonthe.social/evento/corsa-podistica-delle-sette-cappelle/
LOCATION:Varco Notar Ercole\, Sassano\, SA\, 84038\, Italia
CATEGORIES:Sport & Benessere
ATTACH;FMTTYPE=image/jpeg:https://diano.oonthe.social/wp-content/uploads/2023/09/7-cappelle.jpg
ORGANIZER;CN="In cammino con Padre Pio":MAILTO:incamminobautto@tiscali.it
END:VEVENT
BEGIN:VEVENT
DTSTART;VALUE=DATE:20230915
DTEND;VALUE=DATE:20230918
DTSTAMP:20260420T004442
CREATED:20230904T083452Z
LAST-MODIFIED:20230915T095309Z
UID:10000017-1694736000-1694995199@diano.oonthe.social
SUMMARY:XXV Ed. Settembre al Borgo
DESCRIPTION:La prossima tappa del “Viaggio nel Vallo di Diano” vedrà il centro storico di Sassano come protagonista principale\, tutto si svolgerà nel cuore dell’ incantevole borgo\, dove dall’8 al 10 settembre ci sarà  ‘Settembre al Borgo’\, una manifestazione molto apprezzata che festeggia la sua 25ª edizione. \nQuesta sarà un’opportunità straordinaria per scoprire e visitare il nostro affascinante centro storico e i suoi pittoreschi vicoli\, oltre a godere dei nostri deliziosi prodotti tipici. Tra questi\, voglio menzionare i ‘ravioli con la pettola’\, una prelibatezza tradizionale che è molto conosciuta ed apprezzata. L’invito a partecipare è aperto a tutti\, poiché questi tre giorni saranno ricchi di proposte interessanti\, tra cui musica dal vivo\, mostre d’arte\, artisti di strada\, spettacoli itineranti e visite guidate.
URL:https://diano.oonthe.social/evento/xxv-ed-settembre-al-borgo/
LOCATION:Sassano\, Centro Storico\, Sassano\, Sa\, 84038\, Italia
CATEGORIES:Cultura e Tradizione
ATTACH;FMTTYPE=image/jpeg:https://diano.oonthe.social/wp-content/uploads/2023/09/EVENTO-ENOGASTRONOMICO-2.jpg
END:VEVENT
BEGIN:VEVENT
DTSTART;VALUE=DATE:20230902
DTEND;VALUE=DATE:20230903
DTSTAMP:20260420T004442
CREATED:20230828T085923Z
LAST-MODIFIED:20230904T084924Z
UID:10000015-1693612800-1693699199@diano.oonthe.social
SUMMARY:Nostalgia 90
DESCRIPTION:Hai mai sognato di fare un salto indietro nel tempo? Immagina di imbarcarti in una macchina del tempo che ti riporta agli anni ’90\, un’epoca di ritmi travolgenti\, intrattenimento scintillante e stili unici. \nLa musica degli anni ’90 è un’esperienza unica e indimenticabile. È il decennio che ha visto il trionfo di generi come il dance e il pop\, con icone come le Spice Girls che dominavano la scena musicale. Un viaggio indietro nel tempo attraverso la “Musica Spettacolare degli Anni ’90” ti permette di rivivere questa epoca d’oro. \nE non è solo la musica a brillare\, ma anche lo stile. Indossando occhiali da sole alla moda degli anni ’90 e immergendoti in un’atmosfera di colori vivaci e look unici\, ti sentirai davvero parte di quell’epoca iconica. \nQuesta festa è un omaggio a un’epoca che ha lasciato il segno nella storia della musica e della cultura pop. È un’opportunità per ballare\, cantare e rivivere la magia degli anni ’90 in una notte indimenticabile. \nNon perderti la “Musica Spettacolare degli Anni ’90” e unisciti a noi per una festa che celebra la musica e lo stile di un’epoca leggendaria. \n  \nNostalgia 90
URL:https://diano.oonthe.social/evento/nostalgia-90/
LOCATION:Sassano\, Centro Storico\, Sassano\, Sa\, 84038\, Italia
CATEGORIES:Festival
ATTACH;FMTTYPE=image/jpeg:https://diano.oonthe.social/wp-content/uploads/2023/08/Nostalgia-90.jpg
ORGANIZER;CN="Nostalgia 90":MAILTO:info.nostalgia90@gmail.com
END:VEVENT
BEGIN:VEVENT
DTSTART;VALUE=DATE:20230822
DTEND;VALUE=DATE:20230823
DTSTAMP:20260420T004442
CREATED:20230817T133051Z
LAST-MODIFIED:20230904T084927Z
UID:10000010-1692662400-1692748799@diano.oonthe.social
SUMMARY:The Kolors
DESCRIPTION:L’attesa è alle stelle per il 22 agosto\, quando la band guidata dal carismatico Stash incanterà il pubblico presso Varco Notar Ercole di Sassano. Grazie ad un singolo colpaccio e a un talento sempre più raffinato nel corso degli anni\, la band ha collezionato premi e riconoscimenti in modo impressionante. \nIl concerto dei The Kolors si inserisce nei festeggiamenti del “Cuore Immacolato di Maria”\, un evento significativo curato dal Comitato Feste del Santuario Mariano. Questo santuario\, che rappresenta da sempre un punto di riferimento per la comunità di Varco Notar Ercole e oltre\, è un luogo di spiritualità e preghiera. La festività richiama anche migranti che tornano nella loro terra d’origine per partecipare alle celebrazioni legate al Cuore Immacolato di Maria. \nIl programma religioso\, curato con devozione dal parroco don Carmine Tropiano\, prenderà il via il 12 agosto con il novenario in onore della Madonna del “Cuore Immacolato di Maria” alle 18:30. Le serate proseguiranno nei giorni feriali con la recita del Rosario alle 18:30 seguita dalla Santa Messa alle 19:00. Il 22 agosto\, le celebrazioni culmineranno con l’Eucaristia alle 10:30 e poi nuovamente alle 18:30\, anticipando l’attesissimo concerto dei The Kolors. \nSarà un evento da non perdere\, un connubio tra musica e spiritualità che riempirà l’aria di emozioni e suoni coinvolgenti. 🙏
URL:https://diano.oonthe.social/evento/the-kolors/
LOCATION:Varco Notar Ercole\, Sassano\, SA\, 84038\, Italia
CATEGORIES:Concerto
ATTACH;FMTTYPE=image/jpeg:https://diano.oonthe.social/wp-content/uploads/2023/08/the-kolors.jpg
END:VEVENT
END:VCALENDAR