BEGIN:VCALENDAR
VERSION:2.0
PRODID:-//Diano Social - ECPv6.2.9//NONSGML v1.0//EN
CALSCALE:GREGORIAN
METHOD:PUBLISH
X-WR-CALNAME:Diano Social
X-ORIGINAL-URL:https://diano.oonthe.social
X-WR-CALDESC:Eventi per Diano Social
REFRESH-INTERVAL;VALUE=DURATION:PT1H
X-Robots-Tag:noindex
X-PUBLISHED-TTL:PT1H
BEGIN:VTIMEZONE
TZID:Europe/Rome
BEGIN:DAYLIGHT
TZOFFSETFROM:+0100
TZOFFSETTO:+0200
TZNAME:CEST
DTSTART:20240331T010000
END:DAYLIGHT
BEGIN:STANDARD
TZOFFSETFROM:+0200
TZOFFSETTO:+0100
TZNAME:CET
DTSTART:20241027T010000
END:STANDARD
END:VTIMEZONE
BEGIN:VEVENT
DTSTART;TZID=Europe/Rome:20240218T183000
DTEND;TZID=Europe/Rome:20240218T203000
DTSTAMP:20260420T032028
CREATED:20240215T143217Z
LAST-MODIFIED:20240215T143217Z
UID:10000447-1708281000-1708288200@diano.oonthe.social
SUMMARY:La zuppiera spettacolo teatrale
DESCRIPTION:Il Teatro Scarpetta di Sala Consilina si prepara ad accogliere un evento straordinario il prossimo 18 febbraio alle 18:30. La Compagnia 30Allora si esibirà con il suo spettacolo “La Zuppiera”\, una produzione che promette di unire divertimento e significato in una performance indimenticabile. \nLa Zuppiera\, presentata come prima compagnia in concorso\, è un’opera che si distingue per la sua originalità e il suo approccio unico. La trama avvincente\, arricchita da momenti comici e significativi\, promette di catturare l’attenzione del pubblico dall’inizio alla fine. \nUn motivo in più per non perdere questa straordinaria serata è la presenza speciale dell’ormai affermata attrice di Atena Lucana\, Veronica D’Elia. La sua partecipazione aggiunge un tocco di prestigio all’evento\, portando il calore e il talento di un’artista di grande rilievo. \nLa Compagnia 30Allora invita tutti gli appassionati di teatro e coloro che cercano un’esperienza unica a partecipare a questo straordinario spettacolo. “La Zuppiera” promette di essere non solo divertente\, ma anche significativa\, regalando al pubblico una serata indimenticabile. \nVi aspettiamo numerosi al Teatro Scarpetta il 18 febbraio per immergervi in un’esperienza teatrale che promette di sorprendere e intrattenere. Non lasciatevi sfuggire questa opportunità di godere di una performance unica\, presentata con maestria dalla Compagnia 30Allora.
URL:https://diano.oonthe.social/evento/la-zuppiera-spettacolo-teatrale/
LOCATION:Teatro Mario Scarpetta\, Via Cappuccini\, Sala Consilina\, SA\, 84036\, Italia
CATEGORIES:Teatro
ATTACH;FMTTYPE=image/png:https://diano.oonthe.social/wp-content/uploads/2024/02/diano-social-Teatro-.png
ORGANIZER;CN="I ragazzi di San Rocco":MAILTO:associazione@ragazzidisanrocco.org
END:VEVENT
END:VCALENDAR