BEGIN:VCALENDAR
VERSION:2.0
PRODID:-//Diano Social - ECPv6.2.9//NONSGML v1.0//EN
CALSCALE:GREGORIAN
METHOD:PUBLISH
X-ORIGINAL-URL:https://diano.oonthe.social
X-WR-CALDESC:Eventi per Diano Social
REFRESH-INTERVAL;VALUE=DURATION:PT1H
X-Robots-Tag:noindex
X-PUBLISHED-TTL:PT1H
BEGIN:VTIMEZONE
TZID:Europe/Rome
BEGIN:DAYLIGHT
TZOFFSETFROM:+0100
TZOFFSETTO:+0200
TZNAME:CEST
DTSTART:20230326T010000
END:DAYLIGHT
BEGIN:STANDARD
TZOFFSETFROM:+0200
TZOFFSETTO:+0100
TZNAME:CET
DTSTART:20231029T010000
END:STANDARD
TZID:UTC
BEGIN:STANDARD
TZOFFSETFROM:+0000
TZOFFSETTO:+0000
TZNAME:UTC
DTSTART:20230101T000000
END:STANDARD
END:VTIMEZONE
BEGIN:VEVENT
DTSTART;VALUE=DATE:20230816
DTEND;VALUE=DATE:20230820
DTSTAMP:20260420T025618
CREATED:20230816T134052Z
LAST-MODIFIED:20230904T084927Z
UID:10000009-1692144000-1692489599@diano.oonthe.social
SUMMARY:Festa della collina
DESCRIPTION:Torna la “Festa della Collina” ad Arenabianca! 🍽️ Un omaggio alla cucina montesanese e alla sua semplicità casereccia. 🍝 Gustose specialità come fusilli al ragù\, cavatelli con fagioli cannellini\, lumache in umido\, scamorza in carrozza e molto altro. 🎶 Organizzato dalla “La Collina”\, con serate allietate dalla musica della “Stilnovo Band”\, “Ananche Music live” e “Lacava Agostino band”  giochi per i bambini e il 19\, il gruppo “Stereo8 Band” animerà la serata seguita dallo spettacolo dei fuochi pirotecnici. \n🌍Il tema della serata sarà l’attenzione all’ambiente e all’integrazione\, come sottolineato dal presidente Vincenzo D’Acunti. \n🏞️ Non mancare a questo evento tipico con Marchio DE.CO!
URL:https://diano.oonthe.social/evento/festa-della-collina/
LOCATION:Montesano sulla Marcellana\, Piazza Mario D'acuni\, Montesano sulla Marcellana\, sa\, 84033\, Italia
CATEGORIES:Cultura e Tradizione
ATTACH;FMTTYPE=image/jpeg:https://diano.oonthe.social/wp-content/uploads/2023/08/Festa-della-collina.jpg
ORGANIZER;CN="La collina":MAILTO:associazione.lacollina@alice.it
END:VEVENT
BEGIN:VEVENT
DTSTART;VALUE=DATE:20230731
DTEND;VALUE=DATE:20230803
DTSTAMP:20260420T025618
CREATED:20230720T120736Z
LAST-MODIFIED:20230904T084929Z
UID:10000002-1690761600-1691020799@diano.oonthe.social
SUMMARY:Fritz Festival V Edizione
DESCRIPTION:🎉🎪 Fritz Festival V Edizione \n“Pluralia” è il tema ispiratore che ci guiderà in questa avventura di scoperte e connessioni\, celebrando la diversità che rende unico il nostro mondo! 🌍🌈 \nNon mancare a questo festival senza precedenti dove il gusto della provincia si fonde con l’anima della comunità! 🍕🎊 \n🎉 Festival Highlights: 🎉 🎭 Incontri culturali e condivisione di idee 💡🌍 🎥 Proiezioni cinematografiche emozionanti 🎬🍿 💬 Talk e discussioni coinvolgenti 🗣️🤝 🎶 Concerti dal vivo e DJ set mozzafiato 🎵🎧 ⛺ Area camping per l’esperienza completa 🏕️🌌 🎉 Divertimento e atmosfera unica al Fritz! 🎊😄 \nPartecipa a questo evento speciale che celebra la pluralità\, dove le cose plurali vengono esaltate e supportate! 🌟🤗 Unisciti a noi per abbracciare il potere dell’unione\, dei sogni condivisi e delle collaborazioni straordinarie. 💪🤝 \nIngresso gratuito – FREE ENTRY 🆓💃 \nPreparati a un’esperienza indimenticabile! Ci vediamo al Fritz Festival! 🎉🎶🎈🎆 \nPer ulteriori informazioni e aggiornamenti: 🌐 www.fritzfestival.it 📧 info@fritzfestival.it 📱 @fritzfestivalofficial
URL:https://diano.oonthe.social/evento/fritz-festival-v-edizione/
LOCATION:Polo culturale Cappucini\, Via Cappuccini\, Sala Consilina\, Sa\, 84036
CATEGORIES:Festival
ATTACH;FMTTYPE=image/jpeg:https://diano.oonthe.social/wp-content/uploads/2023/07/2023-fritz-festival.jpg
ORGANIZER;CN="Amico Fritz APS":MAILTO:Info@fritzfestival.it
END:VEVENT
BEGIN:VEVENT
DTSTART;VALUE=DATE:20230728
DTEND;VALUE=DATE:20230731
DTSTAMP:20260420T025618
CREATED:20230721T132928Z
LAST-MODIFIED:20230904T084930Z
UID:10000004-1690502400-1690761599@diano.oonthe.social
SUMMARY:Sagra Surace
DESCRIPTION:Un evento Made in Italy unico\, unendo intrattenimento\, cibo\, cultura digitale e valori locali! 🇮🇹🎊 \n🎤🎭 Spettacoli\, showcooking\, musica e buon cibo in un autentico villaggio\, riportando in vita l’atmosfera e le tradizioni di Casa Surace! 🎉🍝 \n🎵🎭 Talenti\, influencer e artisti nazionali si esibiranno accanto a nonne e figure tradizionali per una festa lunga tre giorni! 🎵🤩 \n🍕🎉 Unisciti a noi per questa festa artistica e coinvolgente\, celebrando folklore\, cibo\, ironia e musica! 🎈🤹‍♂️ \n🏰🌍 La Certosa di San Lorenzo\, patrimonio mondiale dell’UNESCO\, sarà lo sfondo suggestivo di questa straordinaria manifestazione! 🏰🌳 \n🌍🤝 Con il patrocinio del Comune di Padula e il supporto di Save the Planet\, promuoviamo l’unità e la sostenibilità! 🤗♻️ \nVi aspettiamo con gioia! 🎉🥳 \n \n 
URL:https://diano.oonthe.social/evento/sagra-surace/
LOCATION:Certosa di Padula\, Via Certosa\, Padula\, SA\, 84034\, Italia
CATEGORIES:Sagra
ATTACH;FMTTYPE=image/jpeg:https://diano.oonthe.social/wp-content/uploads/2023/07/Sagra-Surace-2-1.jpg
END:VEVENT
END:VCALENDAR