BEGIN:VCALENDAR
VERSION:2.0
PRODID:-//Diano Social - ECPv6.2.9//NONSGML v1.0//EN
CALSCALE:GREGORIAN
METHOD:PUBLISH
X-ORIGINAL-URL:https://diano.oonthe.social
X-WR-CALDESC:Eventi per Diano Social
REFRESH-INTERVAL;VALUE=DURATION:PT1H
X-Robots-Tag:noindex
X-PUBLISHED-TTL:PT1H
BEGIN:VTIMEZONE
TZID:Europe/Rome
BEGIN:DAYLIGHT
TZOFFSETFROM:+0100
TZOFFSETTO:+0200
TZNAME:CEST
DTSTART:20230326T010000
END:DAYLIGHT
BEGIN:STANDARD
TZOFFSETFROM:+0200
TZOFFSETTO:+0100
TZNAME:CET
DTSTART:20231029T010000
END:STANDARD
BEGIN:DAYLIGHT
TZOFFSETFROM:+0100
TZOFFSETTO:+0200
TZNAME:CEST
DTSTART:20240331T010000
END:DAYLIGHT
BEGIN:STANDARD
TZOFFSETFROM:+0200
TZOFFSETTO:+0100
TZNAME:CET
DTSTART:20241027T010000
END:STANDARD
END:VTIMEZONE
BEGIN:VEVENT
DTSTART;TZID=Europe/Rome:20241207T210000
DTEND;TZID=Europe/Rome:20241207T223000
DTSTAMP:20260420T052556
CREATED:20241121T110129Z
LAST-MODIFIED:20241121T110129Z
UID:10000477-1733605200-1733610600@diano.oonthe.social
SUMMARY:Gran varietà
DESCRIPTION:Il prossimo 7 dicembre 2024\, al Teatro Mario Scarpetta\, si terrà uno spettacolo imperdibile: Gigi e Ross  gran varietà “Per una speranza”. \nAd arricchire la serata\, sul palco si esibiranno anche artisti straordinari come \n\nSelma\nAngelo Venezia\nJury Monaco\nGennaro De Rosa\nMagic VictorLa serata promette emozioni\, risate e momenti indimenticabili\, il tutto con uno scopo nobile.\n📍Teatro Mario Scarpetta\n⏰Inizio spettacolo: ore 21:00\n🎟️Costo biglietto: 15 euro\n📞 Info e prenotazioni: 3470726391  \nNon mancare a questo evento speciale che unisce divertimento e solidarietà. Ti aspettiamo per una serata unica! 🎭✨
URL:https://diano.oonthe.social/evento/gran-varieta/
LOCATION:Teatro Mario Scarpetta\, Via Cappuccini\, Sala Consilina\, SA\, 84036\, Italia
CATEGORIES:Teatro
ATTACH;FMTTYPE=image/png:https://diano.oonthe.social/wp-content/uploads/2024/11/Teatro.png
ORGANIZER;CN="I ragazzi di San Rocco":MAILTO:associazione@ragazzidisanrocco.org
END:VEVENT
BEGIN:VEVENT
DTSTART;TZID=Europe/Rome:20240504T203000
DTEND;TZID=Europe/Rome:20240504T223000
DTSTAMP:20260420T052556
CREATED:20240503T130809Z
LAST-MODIFIED:20240503T132225Z
UID:10000460-1714854600-1714861800@diano.oonthe.social
SUMMARY:"Cose da Pazzi": Un'Esibizione Teatrale di Eccellenza al Teatro Comunale "Mario Scarpetta"
DESCRIPTION:Nel cuore pulsante della cultura cittadina\, il Teatro Comunale “Mario Scarpetta” si prepara ad accogliere gli spettatori per l’ultimo atto della rassegna “Teatro in Sala”. Una serata che promette di incantare e coinvolgere\, grazie alla straordinaria performance della compagnia teatrale “I Ragazzi di San Rocco”. \nIl sipario si alzerà sabato 4 Maggio per dare spazio a “Cose da Pazzi”\, un’opera teatrale che cattura l’essenza umana in modo brillante e coinvolgente. Sotto la regia sapiente di Claudio Abate\, questa produzione si distingue per la sua capacità di far riflettere e divertire allo stesso tempo. \nLa trama si dipana attraverso un intreccio di situazioni comiche e surreali\, in cui i personaggi si trovano ad affrontare le sfide più bizzarre e imprevedibili. “Cose da Pazzi” esplora il confine sottile tra la normalità e la follia\, invitando il pubblico a esplorare gli angoli più oscuri e divertenti della mente umana. \nLa compagnia “I Ragazzi di San Rocco” porta in scena un cast di talentuosi attori\, capaci di trasportare gli spettatori in un viaggio emozionante attraverso le emozioni e le risate. Ogni gesto\, ogni dialogo è studiato con cura per offrire un’esperienza teatrale indimenticabile. \nIl Teatro Comunale “Mario Scarpetta” si conferma ancora una volta come punto di riferimento per la cultura e lo spettacolo nella nostra città. Con una programmazione variegata e di alta qualità\, continua a deliziare e sorprendere il pubblico con produzioni coinvolgenti e innovative. \nNon perdete l’occasione di essere parte di questa straordinaria serata teatrale. Sabato 4 Maggio\, preparatevi a lasciarvi trasportare dall’incanto di “Cose da Pazzi” e dall’arte di “I Ragazzi di San Rocco”. Vi aspettiamo al Teatro Comunale “Mario Scarpetta” per un’esperienza che vi rimarrà nel cuore.
URL:https://diano.oonthe.social/evento/cose-da-pazzi-unesibizione-teatrale-di-eccellenza-al-teatro-comunale-mario-scarpetta/
LOCATION:Teatro Mario Scarpetta\, Via Cappuccini\, Sala Consilina\, SA\, 84036\, Italia
CATEGORIES:Teatro
ATTACH;FMTTYPE=image/png:https://diano.oonthe.social/wp-content/uploads/2024/05/cose-da-pazzi-1.png
ORGANIZER;CN="I ragazzi di San Rocco":MAILTO:associazione@ragazzidisanrocco.org
END:VEVENT
BEGIN:VEVENT
DTSTART;TZID=Europe/Rome:20231021T183000
DTEND;TZID=Europe/Rome:20231021T203000
DTSTAMP:20260420T052556
CREATED:20231016T081611Z
LAST-MODIFIED:20231030T194416Z
UID:10000406-1697913000-1697920200@diano.oonthe.social
SUMMARY:Teatro in Sala: Concerto Sonora Junior Sax
DESCRIPTION:A “Teatro in Sala”\, residenza artistica e concerto della Sonora Junior Sax \nSabato 21 e domenica 22 ottobre ci sarà una magnifica festa dei giovani e della musica a Teatro in\nSala\, la rassegna di arti performative giunta alla XXVII edizione a Sala Consilina. \n80 musicisti animeranno con i loro sassofoni il Teatro Scarpetta. Nella giornata di sabato faranno\nle prove e registreranno il nuovo album live dell’Orchestra e\, la sera dopo alle 18:30 di domenica\,\neseguiranno uno straordinario concerto. \nDunque\, la Direzione Artistica di Teatro in Sala si prepara ad accogliere l’orchestra giovanile\nSONORA JUNIOR SAX formata da circa 80 ragazzi dai 9 ai 23 anni\, provenienti da tutta la\nCampania ed anche oltre\, tutti allievi ed ex allievi delle scuole medie ad indirizzo musicale. \nIl direttore dell’Orchestra è Domenico Luciano\, i tutor (docenti) che li guidano sono Domenico\nLuciano\, Luigi Cioffi\, Angela Colucci\, Nicola De Giacomo e Michele D’Auria. \nMolti i palcoscenici che li hanno visti protagonisti: Musikwerein\, Konzerthouse e Muth di\nVienna\, Auditorium parco della musica di Roma\, Teatro Bellini di Catania\, Teatro Curci di\nBarletta\, Teatro Giordano di Foggia\, Teatro Stabile di Potenza\, Teatro dell’Aquila di Fermo\, Sala\nVerdi del Conservatorio di Milano ed altri ancora. \nCon la residenza artistica della SONORA JUNIOR SAX\, il Teatro Scarpetta diventa luogo di\nproduzione artistica\, così ampliando gli orizzonti di fruizione culturale del Teatro stesso e di tutti\ngli altri spazi culturali del Polo Cappuccini di Sala Consilina. \nLa Direzione Artistica ringrazia la SONORA JUNIOR SAX per aver scelto Teatro in Sala e il Teatro\nScarpetta per incidere il loro nuovo album e ringrazia anche le strutture ricettive e quanti altri\nstanno aiutando nell’organizzazione del complesso evento e per l’ospitalità delle 100 persone\ncoinvolte nella SONORA JUNIOR SAX. \nDunque\, imperdibile appuntamento al Teatro Scarpetta di Sala Consilina domenica 22 ottobre alle\nore 18:30 con ingresso gratuito per lo straordinario concerto della SONORA JUNIOR SAX\,\nnell’ambito della XXVII edizione della rassegna Teatro in Sala\, organizzata dall’associazione ‘i\nRagazzi di san Rocco’\, con il patrocinio dell’Amministrazione Comunale di Sala Consilina e con il\nsostegno della Banca Monte Pruno di Roscigno.
URL:https://diano.oonthe.social/evento/sonora-junior-sax/
LOCATION:Teatro Mario Scarpetta\, Via Cappuccini\, Sala Consilina\, SA\, 84036\, Italia
CATEGORIES:Concerto,Teatro
ATTACH;FMTTYPE=image/jpeg:https://diano.oonthe.social/wp-content/uploads/2023/10/diano-social-Sala-consilina-2023-teatro-scarpetta.jpg
ORGANIZER;CN="I ragazzi di San Rocco":MAILTO:associazione@ragazzidisanrocco.org
END:VEVENT
END:VCALENDAR