BEGIN:VCALENDAR
VERSION:2.0
PRODID:-//Diano Social - ECPv6.2.9//NONSGML v1.0//EN
CALSCALE:GREGORIAN
METHOD:PUBLISH
X-ORIGINAL-URL:https://diano.oonthe.social
X-WR-CALDESC:Eventi per Diano Social
REFRESH-INTERVAL;VALUE=DURATION:PT1H
X-Robots-Tag:noindex
X-PUBLISHED-TTL:PT1H
BEGIN:VTIMEZONE
TZID:Europe/Rome
BEGIN:DAYLIGHT
TZOFFSETFROM:+0100
TZOFFSETTO:+0200
TZNAME:CEST
DTSTART:20240331T010000
END:DAYLIGHT
BEGIN:STANDARD
TZOFFSETFROM:+0200
TZOFFSETTO:+0100
TZNAME:CET
DTSTART:20241027T010000
END:STANDARD
END:VTIMEZONE
BEGIN:VEVENT
DTSTART;TZID=Europe/Rome:20241207T200000
DTEND;TZID=Europe/Rome:20241207T223000
DTSTAMP:20260420T031421
CREATED:20241126T165629Z
LAST-MODIFIED:20241126T165518Z
UID:10000470-1733601600-1733610600@diano.oonthe.social
SUMMARY:L’Inferno di Dante: un viaggio epico alle Grotte di Pertosa-Auletta
DESCRIPTION:Un’incredibile visita nello spettacolo naturale delle Grotte di Pertosa-Auletta\, con la guida di Dante in persona in un’atmosfera surreale e unica al mondo!\nImmaginate di varcare la soglia di un mondo antico\, dove stalattiti e stalagmiti formano uno scenario preistorico che ha visto passare oltre 35 milioni di anni. Qui\, la magia della Divina Commedia si fonde con un’esibizione che coinvolge oltre 30 attori e ballerini\, accompagnati da un gioco di luci e suoni che vi guideranno attraverso un chilometro di pura suggestione.\nAccompagnati dalla guida di Dante stesso\, vi imbarcherete su un barcone\, navigando sul fiume sotterraneo Negro fino alle soglie dell’Inferno. Ogni passo vi avvicinerà ai personaggi immortali della Divina Commedia: Paolo e Francesca\, Ulisse\, Minosse\, il Conte Ugolino e molti altri.\n Ma non sarà solo il viaggio nel mondo di Dante a sorprendervi. Le Grotte di Pertosa-Auletta offrono uno spettacolo naturale unico al mondo\, con imponenti formazioni geologiche che vi avvolgono completamente\, creando un’atmosfera surreale e avvolgente.\nL’Inferno di Dante alle Grotte di Pertosa-Auletta vi aspetta per un’avventura che vi porterà letteralmente “a riveder le stelle”. Non perdete l’opportunità di vivere questo evento unico\, carico di emozioni e suggestioni senza tempo
URL:https://diano.oonthe.social/evento/linferno-di-dante-un-viaggio-epico-alle-grotte-di-pertosa-auletta/
LOCATION:Grotte di Pertosa\, Via Grotte\, Pertosa\, SA\, 84030
CATEGORIES:Cultura e arte,Natura
ATTACH;FMTTYPE=image/png:https://diano.oonthe.social/wp-content/uploads/2024/10/Linferno-di-Dante.png
ORGANIZER;CN="Mida":MAILTO:info@fondazionemida.it
END:VEVENT
END:VCALENDAR