BEGIN:VCALENDAR
VERSION:2.0
PRODID:-//Diano Social - ECPv6.2.9//NONSGML v1.0//EN
CALSCALE:GREGORIAN
METHOD:PUBLISH
X-ORIGINAL-URL:https://diano.oonthe.social
X-WR-CALDESC:Eventi per Diano Social
REFRESH-INTERVAL;VALUE=DURATION:PT1H
X-Robots-Tag:noindex
X-PUBLISHED-TTL:PT1H
BEGIN:VTIMEZONE
TZID:Europe/Rome
BEGIN:DAYLIGHT
TZOFFSETFROM:+0100
TZOFFSETTO:+0200
TZNAME:CEST
DTSTART:20240331T010000
END:DAYLIGHT
BEGIN:STANDARD
TZOFFSETFROM:+0200
TZOFFSETTO:+0100
TZNAME:CET
DTSTART:20241027T010000
END:STANDARD
END:VTIMEZONE
BEGIN:VEVENT
DTSTART;TZID=Europe/Rome:20240305T160000
DTEND;TZID=Europe/Rome:20240305T170000
DTSTAMP:20260420T015308
CREATED:20240301T145901Z
LAST-MODIFIED:20240301T145901Z
UID:10000448-1709654400-1709658000@diano.oonthe.social
SUMMARY:Cantiamo Lucio
DESCRIPTION:Il prossimo martedì 5 marzo\, un evento straordinario prenderà vita al Cine-Teatro Totò\, dove un Flash Mob nazionale celebrerà il genio musicale di Lucio Battisti in occasione del suo compleanno. L’appuntamento è fissato per le ore 16:00\, promettendo un pomeriggio indimenticabile dedicato a uno dei più grandi artisti della musica italiana. \nOrganizzato con la collaborazione di Cono Coccaro\, LuNa Music Center\, Proloco Sassano e altri partner entusiasti\, questo Flash Mob si preannuncia come un omaggio emozionante a Lucio Battisti. L’atmosfera unica del Cine-Teatro Totò fornirà il palcoscenico perfetto per celebrare il suo straordinario contributo alla musica e alla cultura italiana. \nL’evento sarà un mix di emozioni\, musica e partecipazione collettiva\, con la speranza di coinvolgere appassionati di tutte le età. Sarà un’opportunità per riunire la comunità in una celebrazione collettiva di uno degli artisti più iconici del nostro paese. \nIl Flash Mob sarà reso possibile grazie all’impegno congiunto di organizzatori locali\, associazioni culturali e sostenitori della musica italiana. Questo evento non solo onorerà il talento senza tempo di Lucio Battisti ma sarà anche un’occasione per rafforzare i legami all’interno della comunità attraverso la condivisione di una passione comune. \nSi invita il pubblico a partecipare numeroso\, contribuendo a rendere questo Flash Mob un’esperienza indimenticabile. Portate con voi la vostra energia positiva\, l’amore per la musica di Lucio Battisti e preparatevi a unirvi a un momento unico di celebrazione il prossimo martedì 5 marzo presso il Cine-Teatro Totò alle ore 16:00. \nNon perdete l’opportunità di essere parte di questo evento straordinario che celebra il patrimonio musicale italiano e onora il ricordo di Lucio Battisti. La sua musica ha attraversato generazioni e continuerà a ispirare gli amanti della musica per sempre.
URL:https://diano.oonthe.social/evento/cantiamo-lucio/
LOCATION:Cine teatro Totò\, Via croce 12\, Sassano\, SA\, 84038\, Italia
CATEGORIES:Musica e spettacolo
ATTACH;FMTTYPE=image/png:https://diano.oonthe.social/wp-content/uploads/2024/03/diano-social-Teatro-toto.png
ORGANIZER;CN="Comune di Sassano":MAILTO:protocollo.sassano@asmepec.it
END:VEVENT
END:VCALENDAR