BEGIN:VCALENDAR
VERSION:2.0
PRODID:-//Diano Social - ECPv6.2.9//NONSGML v1.0//EN
CALSCALE:GREGORIAN
METHOD:PUBLISH
X-ORIGINAL-URL:https://diano.oonthe.social
X-WR-CALDESC:Eventi per Diano Social
REFRESH-INTERVAL;VALUE=DURATION:PT1H
X-Robots-Tag:noindex
X-PUBLISHED-TTL:PT1H
BEGIN:VTIMEZONE
TZID:Europe/Rome
BEGIN:DAYLIGHT
TZOFFSETFROM:+0100
TZOFFSETTO:+0200
TZNAME:CEST
DTSTART:20230326T010000
END:DAYLIGHT
BEGIN:STANDARD
TZOFFSETFROM:+0200
TZOFFSETTO:+0100
TZNAME:CET
DTSTART:20231029T010000
END:STANDARD
END:VTIMEZONE
BEGIN:VEVENT
DTSTART;VALUE=DATE:20230827
DTEND;VALUE=DATE:20230828
DTSTAMP:20260420T042205
CREATED:20230825T085055Z
LAST-MODIFIED:20230904T084925Z
UID:10000014-1693094400-1693180799@diano.oonthe.social
SUMMARY:Notte Bianca con concerto degli Zero Assoluto
DESCRIPTION:Il duo romano Zero Assoluto\, composto da Matteo Maffucci e Thomas De Gasperi\, sta facendo il suo ritorno sul palco a Teggiano per celebrare 20 anni di carriera. Questo eclettico duo\, che ha segnato la scena pop italiana con successi come “Svegliarsi la mattina\,” “Semplicemente\,” e “Per dimenticare\,” è considerato un’icona per molte generazioni. \nNegli ultimi due anni\, hanno continuato a stupire il pubblico con singoli come “Cialde” (con la collaborazione di Colapesce)\, “Fuori noi” (con Gazzelle)\, e “Astronave\,” quest’ultimo scritto insieme a Gazzelle e prodotto da Federico Nardelli. Matteo e Thomas promettono che il loro spettacolo sarà più di una semplice performance: sarà una vera festa per tutti i fan. \nMa non è tutto la Notte Bianca Teggianese continuerà con il vibrante gruppo “Vuela Bailando Reggaeton\,” composto da musicisti e cantanti che da anni scuotono feste e piazze cittadine. Il loro genere musicale\, il reggaeton\, nato negli anni ’80 a Porto Rico e Panama\, fonde il reggae giamaicano con le influenze caraibiche e l’hip-hop americano\, creando un ritmo coinvolgente che celebra l’allegria\, la gioia di vivere\, e l’amore per la musica. \n  \n         
URL:https://diano.oonthe.social/evento/notte-bianca-con-concerto-degli-zero-assoluto/
LOCATION:Teggiano\, Centro Storico\, Sa\, 84039\, Italia
CATEGORIES:Concerto,Notte bianca
ATTACH;FMTTYPE=image/jpeg:https://diano.oonthe.social/wp-content/uploads/2023/08/Zero-Assoluto.jpg
END:VEVENT
END:VCALENDAR