BEGIN:VCALENDAR
VERSION:2.0
PRODID:-//Diano Social - ECPv6.2.9//NONSGML v1.0//EN
CALSCALE:GREGORIAN
METHOD:PUBLISH
X-ORIGINAL-URL:https://diano.oonthe.social
X-WR-CALDESC:Eventi per Diano Social
REFRESH-INTERVAL;VALUE=DURATION:PT1H
X-Robots-Tag:noindex
X-PUBLISHED-TTL:PT1H
BEGIN:VTIMEZONE
TZID:Europe/Rome
BEGIN:DAYLIGHT
TZOFFSETFROM:+0100
TZOFFSETTO:+0200
TZNAME:CEST
DTSTART:20240331T010000
END:DAYLIGHT
BEGIN:STANDARD
TZOFFSETFROM:+0200
TZOFFSETTO:+0100
TZNAME:CET
DTSTART:20241027T010000
END:STANDARD
END:VTIMEZONE
BEGIN:VEVENT
DTSTART;TZID=Europe/Rome:20240324T180000
DTEND;TZID=Europe/Rome:20240324T200000
DTSTAMP:20260420T054941
CREATED:20240321T094842Z
LAST-MODIFIED:20240321T094842Z
UID:10000454-1711303200-1711310400@diano.oonthe.social
SUMMARY:Rassegna di danza
DESCRIPTION:Il Teatro “Mario Scarpetta” di Sala Consilina ospiterà domenica 24 marzo\, la Rassegna di Danza Federica Tropiano\, organizzata dall’Associazione 21 Passi per il secondo anno consecutivo. \nQuesto evento\, dedicato alla memoria della talentuosa ballerina Federica Tropiano di Teggiano\, offre una piattaforma per più di cento ballerini che si esibiranno in vari stili\, dal Moderno al Contemporaneo\, all’Hip Hop e al Latino. \nUna giuria d’eccezione\, tra cui Gabriele Manzo\, Demis Autellitano\, Antonio Barone e il rinomato coreografo Little Phil Mungiele\, valuterà le performance dei partecipanti\, con borse di studio fino a 1.200 euro in palio. Inoltre\, i partecipanti avranno l’opportunità di affinare le proprie abilità attraverso stage condotti dai maestri Gabriele Manzo e Demis Autellitano. \nLa direzione artistica sarà guidata da Jennifer Saia\, mentre Zenda Cimino e Pasquale Sorrentino si occuperanno della presentazione dell’evento\, con il supporto dei giovani talenti locali Annalucy Menafra\, Manuela Cantelmi e Giuseppe Romano. \nL’Associazione\, guidata dalla presidente Ilaria Tropiano\, ha l’obiettivo di supportare i sogni dei giovani appassionati di danza e di onorare la memoria di Federica attraverso questa rassegna annuale. \nSi prevede una serata emozionante\, ricca di arte e talento\, che celebra la passione per la danza e rende omaggio a una figura così amata e rispettata.
URL:https://diano.oonthe.social/evento/rassegna-di-danza/
LOCATION:Teatro Mario Scarpetta\, Via Cappuccini\, Sala Consilina\, SA\, 84036\, Italia
CATEGORIES:Danza,Teatro
ATTACH;FMTTYPE=image/png:https://diano.oonthe.social/wp-content/uploads/2024/03/Rassegna-danza.png
ORGANIZER;CN="Associazione 21 Passi":MAILTO:info@21passi.it
END:VEVENT
END:VCALENDAR